BEGIN:VCALENDAR
VERSION:2.0
PRODID:-//LA Events Now - ECPv6.15.20//NONSGML v1.0//EN
CALSCALE:GREGORIAN
METHOD:PUBLISH
X-ORIGINAL-URL:https://laeventsnow.com
X-WR-CALDESC:Events for LA Events Now
REFRESH-INTERVAL;VALUE=DURATION:PT1H
X-Robots-Tag:noindex
X-PUBLISHED-TTL:PT1H
BEGIN:VTIMEZONE
TZID:UTC
BEGIN:STANDARD
TZOFFSETFROM:+0000
TZOFFSETTO:+0000
TZNAME:UTC
DTSTART:20240101T000000
END:STANDARD
END:VTIMEZONE
BEGIN:VEVENT
DTSTART;VALUE=DATE:20250425
DTEND;VALUE=DATE:20250428
DTSTAMP:20260423T143748
CREATED:20260223T004746Z
LAST-MODIFIED:20251101T144207Z
UID:729-1745539200-1745798399@laeventsnow.com
SUMMARY:Stagecoach Country Music Festival | April 25 - 27
DESCRIPTION:Attend This Event\n  \n\n \n\nArtist Lineup:\n\n\n\n\n\n\n\n  \n\n\n\n  \n\nStagecoach is the Country Music Fans ‘Coachella’!\nWith a full line-up of artist from Zach Bryan\, luke combs\, Jelly Roll and so many more\, this year is looking like one you don’t want to miss! \nAbout Stagecoach: Stagecoach Music Festival celebrates country music and country music culture. It attracts fans of both traditional and contemporary country styles showcasing top country artists\, providing a platform for established stars and up and comers. \nThe festival is where a country music lovers can feel like they’re home. Wear your cowboy boots\, hats\, and bring your best two-step. But Stagecoach is about much more than just music. Some of the on-site attractions are Guy Fieri’s Stagecoach Smokehouse\, which provides a unique culinary experience as well as Diplo’s HonkyTonk\, which brings a very fun blend of country and DJ music. There’s also plenty of line dancing\, tons of fantastic food and many\, many fun country related events to keep you smiling day into night. \n  \n\nAttend This Event\n 
URL:https://laeventsnow.com/event/stagecoach-country-music-festival-april-25-27/
LOCATION:Empire Polo Club\, 81-800 Avenue 51\, Indio\, CA\, Empire Polo Club 81-800 Avenue 51\, Indio\, CA 92201\, United States
CATEGORIES:Music Festivals
ATTACH;FMTTYPE=image/jpeg:https://laeventsnow.com/wp-content/uploads/2025/02/stagecoach-festival640.jpg
END:VEVENT
BEGIN:VEVENT
DTSTART;VALUE=DATE:20250411
DTEND;VALUE=DATE:20250421
DTSTAMP:20260423T143748
CREATED:20260227T004529Z
LAST-MODIFIED:20251101T144149Z
UID:725-1744329600-1745193599@laeventsnow.com
SUMMARY:Coachella Music Festival | April 11 - 20
DESCRIPTION:Attend This Event\n  \n\n \n\nArtist Lineup:\n\n\n\n\n\n\n\nAn Experience Like No Other!\n\n \n\n  \n\nThere’s Only One Coachella Music Festival…Don’t Miss it.\nSimply put…the Coachella Valley Music Festival is a cultural phenomenon! And it’s reputation as a leading music festival is valid for many reasons.  \nOne: It’s Iconic Lineups! \nCoachella consistently delivers a diverse and high-profile lineup\, featuring major headliners and emerging artists across various music genres. From rock\, pop\, hip-hop\, electronic and more. The avalanche of talent all in one venue draws music enthusiasts from around the world. It’s known for having many acts at the peak of their careers\, then rounding out the line-up with classic artist that fit beautifully into that years collection of talent. \nTwo: Fashion and Celebrity Culture  \nCoachella has long become a major fashion event\, where you can showcase your own unique style among other fashionistas\, and it’s a hotspot for celebrity sightings which only adds to the festival’s allure. \nThree: The Art Installations \nCoachella’s many large-scale\, interactive art installations create a visually stunning\, memorable and immersive experience and contribute to the festival’s unique\, unforgettable atmosphere. \nThe festivals cultural impact is notorious for influencing new trends in music\, fashion\, and art. It’s a place where trends are set and observed. And it’s this combo of atmosphere and experience in a desert setting with high-energy “peak of career” performances\, that create an excitement and satisfaction that can only be had at Coachella. \nSo Kick off festival season at the biggest\, best-est 🙂 event to be had and experience in-person why Coachella is one of the most highly anticipated and talked-about music festivals in the world. \n  \n\nAttend This Event\n 
URL:https://laeventsnow.com/event/coachella-music-festival-april-11-20/
LOCATION:Empire Polo Club\, 81-800 Avenue 51\, Indio\, CA\, Empire Polo Club 81-800 Avenue 51\, Indio\, CA 92201\, United States
CATEGORIES:Music Festivals
ATTACH;FMTTYPE=image/jpeg:https://laeventsnow.com/wp-content/uploads/2025/02/Coachella2.jpg
END:VEVENT
BEGIN:VEVENT
DTSTART;VALUE=DATE:20250328
DTEND;VALUE=DATE:20250330
DTSTAMP:20260423T143748
CREATED:20250223T003918Z
LAST-MODIFIED:20250308T000401Z
UID:721-1743120000-1743292799@laeventsnow.com
SUMMARY:Beyond Wonderland | March 28 - 29
DESCRIPTION:Attend This Event\n  \n\n \n\nArtist Lineup:\n\n\n\n\n\n\n\n  \n\nBeyond Wonderland is the Immersive EDM Music Festival You Deserve\nBeyond Wonderland is a Music Festival lovers Disneyland.With its “Alice in Wonderland” inspired theme you get elaborate stage designs\, costumed performers\, and whimsical decorations\, creating an out of this world dream-like environment that is second-to-none. Come in your wildest fantasy land costume or come as is baby!  \nBeyond Wonderland features a wide range and variety of EDM music\, from house and techno to trance and dubstep\, attracting a diverse\, hyped crowd of EDM music lovers. BW showcases both well-known local and international DJs and up-and-coming artists\, providing a dynamic musical experience. \nBW goes way beyond just the music. It’s a Full Immersive Experience with interactive art installations\, theatrical performances\, and much more. This is an absolute all-sensory experience different from any other music event. \n…and it’s an Insomniac Event so you know it’s done right! \nIt’s been a bumpy couple of years in these 2020’s …treat yourself to an event that true EDM music lovers deserve. \n  \n\nAttend This Event\n 
URL:https://laeventsnow.com/event/beyond-wonderland-march-28-29/
LOCATION:NOS Events Center\, 689 S. E St\, San Bernardino\, CA\, 92408\, United States
CATEGORIES:Music Festivals
ATTACH;FMTTYPE=image/jpeg:https://laeventsnow.com/wp-content/uploads/2025/02/beyond-wonderland.jpg
END:VEVENT
BEGIN:VEVENT
DTSTART;VALUE=DATE:20250315
DTEND;VALUE=DATE:20250317
DTSTAMP:20260423T143748
CREATED:20260223T000747Z
LAST-MODIFIED:20251101T144243Z
UID:714-1741996800-1742169599@laeventsnow.com
SUMMARY:Rolling Loud Cali | March 15 - 16
DESCRIPTION:Attend This Event\n  \n\n \n\n\n\nArtist Lineup:\n\n\n\n\n\n\n\n  \n\n\n\n  \n\nRolling Loud Brings the Thunder Once Again in 2025\nRolling Loud is thee major SoCal Hip-Hop music festival and this years Star-Studded Lineup is fire! The festival consistently attracts top-tier hip-hop artists\, both established stars and rising talents. This year includes headliners A$AP Rocky\, Playboi Carti and Peso Pluma.  RL also provides a platform for up and coming artist\, so you can catch the next big thing. \nRolling Loud is popular for a High-Energy Atmosphere and a vibrant and energetic crowd! They don’t call it ‘Rolling Loud’ for nothing kid.  This years festival has the full festival immersive experience with multiple stages\, art installations\, and other attractions.  This is the event where SoCal Hip-Hop fans can connect with the culture! \n2025 Festival will be at Hollywood Park\, adjacent to SoFi Stadium in Inglewood.  There are numerous attractions to keep you entertained in between shows like Loud Cutz\, Rolling Loud Tattoo Parlour\, and Bunny’s Bae Bar. \nBe there …or be the one hearing about it from friends. \n  \n\nAttend This Event\n 
URL:https://laeventsnow.com/event/rolling-loud-cali-march-14-15/
LOCATION:Hollywood Park Grounds\, 1001 Stadium Dr.\, Inglewood\, California\, 90301\, United States
CATEGORIES:Music Festivals
ATTACH;FMTTYPE=image/jpeg:https://laeventsnow.com/wp-content/uploads/2025/02/Rolling-Loud-2021.jpg
END:VEVENT
BEGIN:VEVENT
DTSTART;VALUE=DATE:20250301
DTEND;VALUE=DATE:20250303
DTSTAMP:20260423T143748
CREATED:20260222T235612Z
LAST-MODIFIED:20251101T144129Z
UID:704-1740787200-1740959999@laeventsnow.com
SUMMARY:CRSSD Music Festival | March 1 - 2
DESCRIPTION:Attend This Event\n\n \n\nArtist Lineup:
URL:https://laeventsnow.com/event/crssd-music-festival-march-1-2/
LOCATION:Waterfront Park\, 1600 Pacific Hwy\, San Diego\,\, California\, 92101\, United States
CATEGORIES:Music Festivals
ATTACH;FMTTYPE=image/jpeg:https://laeventsnow.com/wp-content/uploads/2025/02/Crssd-640x427-1.jpg
END:VEVENT
END:VCALENDAR